BEGIN:VCALENDAR
VERSION:2.0
PRODID:-//https://tlc.asn.au///NONSGML kigkonsult.se iCalcreator 2.10.15//
METHOD:PUBLISH
BEGIN:VEVENT
UID:20190227T114554PST-6380mHgo0U@https://tlc.asn.au/
DTSTAMP:20190227T194554Z
DESCRIPTION:TOPIC: ROLE OF THE COMMUNITY IN LAW REFORMOpportunities for com
 munity participation can occur at various stages of the law reform\, legis
 lative changes and public policy. However what are these opportunities\, a
 nd to what extent can individuals influence government decisions? This sem
 inar will&nbsp\;outline options for those who want to become more engaged 
 in&nbsp\;the local law reform process.Chair: Dr John Brodie\, former Mayor
 \, Holroyd City Council\, Treasurer\, Toongabbie Legal Centre Inc.Presente
 r: Alan Cameron AO\, Chairman NSW Law Reform Commission (former Chairman\,
  ASIC)Influencing Public Policy/Law through collective power in the local&
 nbsp\;community &ndash\; Blocking a large Incinerator in Western SydneyPre
 senter: Clr Stephen Bali\, Mayor\, Blacktown City Council and State Member
  of Parliament for Blacktown https://tlc.asn.au/events/upcoming/event/223-
 seminar-1-role-of-the-community-in-law-reform
DTSTART:20181012T230000Z
DTEND:20181013T010000Z
LOCATION:St Paul the Apostle Catholic Church Hall\, Winston Hills (40 Buckl
 eys Rd\, Winston Hills NSW 2153\, Australia)
SUMMARY:Seminar 1- Role of the Community in Law Reform
URL:https://tlc.asn.au/events/upcoming/event/223-seminar-1-role-of-the-comm
 unity-in-law-reform
END:VEVENT
BEGIN:VEVENT
UID:20190227T114554PST-63851jCSNx@https://tlc.asn.au/
DTSTAMP:20190227T194554Z
DESCRIPTION:TOPIC: Companion Animals: Owners&rsquo\; responsibilities and&n
 bsp\;consequence of failure of duty of care: Legal issues&nbsp\;and their 
 implications?With over 24 million companion animals/ pets in Australia tod
 ay\,&nbsp\;the importance of animal welfare continues to expand through&nb
 sp\;greater consciousness of their inability to advocate for their welfare
 .&nbsp\;Whilst the law provides protections for our animals\, they are not
 &nbsp\;always fully understood by companion animals/pet owners. This&nbsp\
 ;seminar will discuss how animal welfare laws can impact you\, your&nbsp\;
 neighbours and your dear and much loved companion animals/pets.Chair: Russ
  Dickens\, Veterinary doctor and former Mayor of&nbsp\;Blacktown City Coun
 cilPresenters:&nbsp\;Andrew Clachers\, Principal Solicitor\, Royal Society
  for the Prevention&nbsp\;of Cruelty to Animals (RSPCA)&nbsp\;Ian Burr\, C
 oordinator\, Animal Holding Facility@ Blacktown City Council&nbsp\;serving
  six councils: Parramatta\, Cumberland\, Ryde. Lane Cove\, Hunters Hill &a
 mp\; Willoughby https://tlc.asn.au/events/upcoming/event/224-seminar-2-com
 panion-animals-owners-responsibilities-and-consequence-of-failure-of-duty-
 of-care-legal-issues-and-their-implications
DTSTART:20181019T230000Z
DTEND:20181020T010000Z
LOCATION:Northmead Uniting Church Hall\, Northmead (3-7 Hammers Rd\, Northm
 ead NSW 2152\, Australia)
SUMMARY: Seminar 2- Companion Animals: Owners’ responsibilities and consequ
 ence of failure of duty of care: Legal issues and their implications?
URL:https://tlc.asn.au/events/upcoming/event/224-seminar-2-companion-animal
 s-owners-responsibilities-and-consequence-of-failure-of-duty-of-care-legal
 -issues-and-their-implications
END:VEVENT
BEGIN:VEVENT
UID:20190227T114554PST-6391NLrMM0@https://tlc.asn.au/
DTSTAMP:20190227T194554Z
DESCRIPTION:TOPIC: Car Crash: What should you do and how do you deal&nbsp\;
 with legal questions?Car accidents carry a number of legal obligations and
  consequences\,&nbsp\;whether you were or were not at fault and the implic
 ation of insurance&nbsp\;policies. When do you need to call the police? Wh
 at happens if the&nbsp\;parties disagree on who was responsible? Can you t
 ake the issue to&nbsp\;court? This seminar will discuss what you need to d
 o after a collision\,&nbsp\;and how you can protect yourself should the is
 sue go to court.Chair: Con Ktenas\, Solicitor\, Accredited Specialist Pers
 onal Injury&nbsp\;Law (formerly with Workers Compensation Independent Revi
 ew&nbsp\;Office - WIRO)\, Stacks Goudkamp\, Sydney\, &amp\; President of t
 he City of&nbsp\;Sydney Law SocietyPresenters:&nbsp\;Gregory Heathcote\, B
 arrister\, 8th Floor Garfield Barwick Chambers\, Sydney&nbsp\;Mathew Campb
 ell\, Solicitor\, Proctor and Associates\, ParramattaBen Radford\, Senior 
 Constable\, Community Liaison Officer\,&nbsp\;NSW Police Force https://tlc
 .asn.au/events/upcoming/event/225-seminar-3-car-crash-what-should-you-do-a
 nd-how-do-you-deal-with-legal-questions
DTSTART:20181026T230000Z
DTEND:20181027T010000Z
LOCATION:Mother Teresa Primary School Hall\, Westmead (2A Darcy Rd\, Westme
 ad NSW 2145\, Australia)
SUMMARY:Seminar 3- Car Crash: What should you do and how do you deal with l
 egal questions?
URL:https://tlc.asn.au/events/upcoming/event/225-seminar-3-car-crash-what-s
 hould-you-do-and-how-do-you-deal-with-legal-questions
END:VEVENT
BEGIN:VEVENT
UID:20190227T114554PST-63966GGtkI@https://tlc.asn.au/
DTSTAMP:20190227T194554Z
DESCRIPTION:TOPIC: Who is responsible for the trees on your property\,&nbsp
 \;neighbour&rsquo\;s property and council property?Tree disputes have the 
 ability to either empower or detract from one&rsquo\;s&nbsp\;experience in
  their own home and neighbourhood. The preservation&nbsp\;of relationships
  and the civility of community can all be at stake&nbsp\;in the occurrence
  of tree disputes\, which may be considered as&nbsp\;trivial\, but the con
 sequences may be catastrophic. This seminar will&nbsp\;examine what you ca
 n and cannot do under the Tree Disputes Act.Chair: Bruce Woolf\, Principal
 \, Woolf Associates\, SydneyPresenter: Jemilah Hallinan\, Solicitor\, Outr
 each Director\, EDO NSW https://tlc.asn.au/events/upcoming/event/226-semin
 ar-4-who-is-responsible-for-the-trees-on-your-property-neighbour-s-propert
 y-and-council-property
DTSTART:20181102T230000Z
DTEND:20181103T010000Z
LOCATION:Toongabbie West Primary School\, Toongabbie (83 Ballandella Rd\, T
 oongabbie NSW 2146\, Australia)
SUMMARY:Seminar 4- Who is responsible for the trees on your property\, neig
 hbour’s property and council property?
URL:https://tlc.asn.au/events/upcoming/event/226-seminar-4-who-is-responsib
 le-for-the-trees-on-your-property-neighbour-s-property-and-council-propert
 y
END:VEVENT
BEGIN:VEVENT
UID:20190227T114554PST-6400jneWj8@https://tlc.asn.au/
DTSTAMP:20190227T194554Z
DESCRIPTION:TOPIC: Terms and conditions of your employment: who is&nbsp\;re
 sponsible to protect them: your employer\, your union\,&nbsp\;NSW Industri
 al Relations Commission or Fair Work&nbsp\;Commission?&nbsp\;All employees
 \, including casuals\, have certain rights afforded to&nbsp\;them under th
 e law. Conduct such as discrimination\, bullying\, and&nbsp\;unfair dismis
 sals are not tolerated in the workplace. This seminarwill address some of 
 these protections and how to assert your rights&nbsp\;when you feel you ar
 e being treated unfairly in the workplace. Chair: Rick Mitry\, Mitry Lawye
 rs\, Sydney&nbsp\;Presenters:Ian Latham\, Barrister\, Denman Chambers\, Sy
 dney&nbsp\;Tim McCauley\, Solicitor\, Taylor and Scott\, Sydney https://tl
 c.asn.au/events/upcoming/event/227-seminar-5-terms-and-conditions-of-your-
 employment-who-is-responsible-to-protect-them-your-employer-your-union-nsw
 -industrial-relations-commission-or-fair-work-commission
DTSTART:20181109T230000Z
DTEND:20181110T010000Z
LOCATION:Doonside Senior Citizens Centre\, Doonside  (Graham St\, Doonside 
 NSW 2767\, Australia)
SUMMARY:Seminar 5- Terms and conditions of your employment: who is responsi
 ble to protect them: your employer\, your union\, NSW Industrial Relations
  Commission or Fair Work Commission?
URL:https://tlc.asn.au/events/upcoming/event/227-seminar-5-terms-and-condit
 ions-of-your-employment-who-is-responsible-to-protect-them-your-employer-y
 our-union-nsw-industrial-relations-commission-or-fair-work-commission
END:VEVENT
BEGIN:VEVENT
UID:20190227T114554PST-6406TFUBb5@https://tlc.asn.au/
DTSTAMP:20190227T194554Z
DESCRIPTION:TOPIC: Wills\, Inheritance\, Probate and Letters of Administrat
 ion&nbsp\;&ndash\; Issues for you to watch for?Many people understand what
  a Will is. However\, most people&nbsp\;would not be able to tell you what
  types of assets a Will can cover\,&nbsp\;how to execute a Will\, who admi
 nisters a Will or how to amend&nbsp\;one once it has&nbsp\; been executed.
  The process of probate or letter of&nbsp\;administration may look simple\
 , but it may pose problems when it is&nbsp\;not done carefully.Chair: Phil
 ip Gerber\, Solicitor\, Gerber Legal\, ToongabbiePresenter: Dean Bainbridg
 e\, Volunteer-Solicitor &amp\; Principal Solicitor\,&nbsp\;Bainbridge Lega
 l\, Blacktown https://tlc.asn.au/events/upcoming/event/228-seminar-6-wills
 -inheritance-probate-and-letters-of-administration-issues-for-you-to-watch
 -for
DTSTART:20181116T230000Z
DTEND:20181117T010000Z
LOCATION:Our Lady of Lourdes Church Hall\, Seven Hills (7 Grantham Rd\, Sev
 en Hills NSW 2147\, Australia)
SUMMARY:Seminar 6- Wills\, Inheritance\, Probate and Letters of Administrat
 ion – Issues for you to watch for?
URL:https://tlc.asn.au/events/upcoming/event/228-seminar-6-wills-inheritanc
 e-probate-and-letters-of-administration-issues-for-you-to-watch-for
END:VEVENT
BEGIN:VEVENT
UID:20190227T114554PST-6410z31n27@https://tlc.asn.au/
DTSTAMP:20190227T194554Z
DESCRIPTION:TOPIC: Fined! What to do next? Options and possibilities&nbsp\;
 (eg: Work and Development Orders/WDO)Over 2.8 million fines are issued in 
 NSW annually. This seminar&nbsp\;will discuss what you should do when you 
 get a fine/penalty or&nbsp\;infringement notice and the steps involved in 
 fines administration.Chair: His Honour Magistrate Theo TsavdaridisPresente
 rs:&nbsp\;Mathew Baker\, Senior Technical Advisor\, Fines\,&nbsp\;Revenue 
 NSW\, Department of Finance\, Services and Innovation:&nbsp\;Paula Novotna
 \, Solicitor\, NSW Legal Aid\, Civil Law Division https://tlc.asn.au/event
 s/upcoming/event/229-seminar-7-fined-what-to-do-next-options-and-possibili
 ties-eg-work-and-development-orders-wdo
DTSTART:20181123T230000Z
DTEND:20181124T010000Z
LOCATION:Jim Southee Community Centre\, Kings Langley (117 James Cook Dr\, 
 Kings Langley NSW 2147\, Australia)
SUMMARY:Seminar 7- Fined! What to do next? Options and possibilities (eg: W
 ork and Development Orders/WDO)
URL:https://tlc.asn.au/events/upcoming/event/229-seminar-7-fined-what-to-do
 -next-options-and-possibilities-eg-work-and-development-orders-wdo
END:VEVENT
BEGIN:VEVENT
UID:20190227T114554PST-6414OEvNFp@https://tlc.asn.au/
DTSTAMP:20190227T194554Z
DESCRIPTION:TOPIC: Injured at work? what should I do? What are my rights?If
  you have suffered from a physical injury or psychological harm at&nbsp\;w
 ork\, you may be eligible to make a workers&rsquo\; compensation claim.&nb
 sp\;This seminar will examine your rights following an injury and the&nbsp
 \;options to best protect yourself and/or your family. This seminar will&n
 bsp\;also address your rights as the consequence of car accidents.Chair: R
 ichard Dababneh\, Solicitor\, Accredited Specialist in Personal&nbsp\;Inju
 ry Law\, Turner Freeman\, ParramattaPresenters:&nbsp\;Fady Dous\, Solicito
 r\, Accredited Specialist in Personal Injury Law\,&nbsp\;Turner and Freema
 n\, ParramattaDean-Lloyd Del Monte\, Barrister\, Jack Shand Chambers\, Syd
 ney https://tlc.asn.au/events/upcoming/event/230-seminar-8-injured-at-work
 -what-should-i-do-what-are-my-rights
DTSTART:20181130T230000Z
DTEND:20181201T010000Z
LOCATION:Function Centre\, Max Weber Library\, Blacktown (Flushcombe Rd & A
 lpha St\, Blacktown NSW 2148\, Australia)
SUMMARY:Seminar 8- Injured at work? what should I do? What are my rights?
URL:https://tlc.asn.au/events/upcoming/event/230-seminar-8-injured-at-work-
 what-should-i-do-what-are-my-rights
END:VEVENT
BEGIN:VEVENT
UID:20190227T114554PST-6418rP3FM4@https://tlc.asn.au/
DTSTAMP:20190227T194554Z
DESCRIPTION:TOPIC: Mental Health: Caring for loved ones:&nbsp\;Options and 
 Challenges?Many thousands of Australians experience mental health problems
 .&nbsp\;For some people\, their mental health difficulties lead to compuls
 ory&nbsp\;mental health treatment in hospital or elsewhere in the communit
 y.&nbsp\;This presentation will explore the rights of those who are affect
 ed&nbsp\;and are being required to have involuntary treatment and how&nbsp
 \;&lsquo\;patients&rsquo\;\, their family or friends can participate in th
 e decision&nbsp\;making process.Chair: Richard Battley\, Barrister\, Samue
 l Griffith Chambers\, SydneyPresenters:The Honourable Greg James QC (forme
 r Justice of the NSW Supreme&nbsp\;Court and former President of Mental He
 alth Review Tribunal)Dr Stephen Woods\, Clinical Forensic Psychologist htt
 ps://tlc.asn.au/events/upcoming/event/231-seminar-9-mental-health-caring-f
 or-loved-ones-options-and-challenges
DTSTART:20181207T230000Z
DTEND:20181208T010000Z
LOCATION:Seminar Room@ Community Migrants Resource Centre\, Level 4\, Horwo
 od Place\, Parramatta (1 Horwood Pl\, Parramatta NSW 2150\, Australia)
SUMMARY:Seminar 9- Mental Health: Caring for loved ones: Options and Challe
 nges?
URL:https://tlc.asn.au/events/upcoming/event/231-seminar-9-mental-health-ca
 ring-for-loved-ones-options-and-challenges
END:VEVENT
END:VCALENDAR
